BEGIN:VCALENDAR
VERSION:2.0
PRODID:-//Squarespace Inc/Squarespace 6//v6//EN
BEGIN:VEVENT
UID:55bef1b3e4b0e700204dca5e@squarespace.com
DTSTAMP:20150803T045106Z
DTSTART:20151107T073000Z
DTEND:20151107T113000Z
SUMMARY:Diwali Ball 2015
GEO:-33.861691;151.207677
LOCATION:Four Seasons Hotel\, 199 George St\, The Rocks\, NSW\, 2000\, Aust
 ralia
END:VEVENT
END:VCALENDAR
