BEGIN:VCALENDAR
VERSION:2.0
PRODID:-//Squarespace Inc/Squarespace 6//v6//EN
BEGIN:VEVENT
UID:5bff7742f950b78de3b74354@squarespace.com
DTSTAMP:20191218T042159Z
DTSTART:20190504T083000Z
DTEND:20190504T133000Z
SUMMARY:CaraCare 5th Annual Ball
GEO:-33.870353;151.152527
LOCATION:Le Montage\, 38 Frazer Street\, Lilyfield\, NSW\, 2040\, Australia
END:VEVENT
END:VCALENDAR
