BEGIN:VCALENDAR
VERSION:2.0
PRODID:-//Squarespace Inc/Squarespace 6//v6//EN
BEGIN:VEVENT
UID:5ebe20f80a67ce269cc4bbdf@squarespace.com
DTSTAMP:20200515T051249Z
DTSTART:20200604T093000Z
DTEND:20200604T103000Z
SUMMARY:Virtual Trivia Night
END:VEVENT
END:VCALENDAR
