BEGIN:VCALENDAR
VERSION:2.0
PRODID:-//Squarespace Inc/Squarespace 6//v6//EN
BEGIN:VEVENT
UID:58acea0086e6c09f840c5dba@squarespace.com
DTSTAMP:20181129T052106Z
DTSTART:20180519T083000Z
DTEND:20180519T133000Z
SUMMARY:CaraCare 4th Annual Ball
GEO:-33.870353;151.152527
LOCATION:Le Montage\, 38 Frazer Street\, Lilyfield\, NSW\, 2040\, Australia
END:VEVENT
END:VCALENDAR
