BEGIN:VCALENDAR
VERSION:2.0
PRODID:-//Squarespace Inc/Squarespace 6//v6//EN
BEGIN:VEVENT
UID:56cb81b1c6fc08547b2d65b1@squarespace.com
DTSTAMP:20160310T232533Z
DTSTART:20160506T090000Z
DTEND:20160506T135900Z
SUMMARY:CaraCare 2nd Annual Ball
GEO:-33.870337;151.152553
LOCATION:LE Montage\, 38 Frazer Street\, Lilyfield\, Australia
END:VEVENT
END:VCALENDAR
