BEGIN:VCALENDAR
VERSION:2.0
PRODID:-//Squarespace Inc/Squarespace 6//v6//EN
BEGIN:VEVENT
UID:54a74703e4b0ab38fee0f273@squarespace.com
DTSTAMP:20150818T030550Z
DTSTART:20151017T043000Z
DTEND:20151017T070000Z
SUMMARY:CaraCare Art Exhibition
GEO:-33.854026;151.102487
LOCATION:Cara House\, 148 Majors Bay Rd\, Concord\, NSW\, 2137\, Australia
END:VEVENT
END:VCALENDAR
