BEGIN:VCALENDAR
VERSION:2.0
PRODID:-//Squarespace Inc/Squarespace 6//v6//EN
BEGIN:VEVENT
UID:54a744d3e4b0d1cd06eeb5aa@squarespace.com
DTSTAMP:20150301T195027Z
DTSTART:20150502T090000Z
DTEND:20150502T135900Z
SUMMARY:CaraCare Inaugural Ball
GEO:-33.85418;151.102849
LOCATION:Concord Function Centre\, 138-144 Majors Bay Rd\, Concord\, NSW\, 
 2137\, Australia
END:VEVENT
END:VCALENDAR
