BEGIN:VCALENDAR
VERSION:2.0
PRODID:-//Squarespace Inc/Squarespace 6//v6//EN
BEGIN:VEVENT
UID:54a74672e4b0f3612b13589c@squarespace.com
DTSTAMP:20150313T020533Z
DTSTART:20150327T070000Z
DTEND:20150327T110000Z
SUMMARY:BOP with Cara – The Concert
GEO:-33.883077;151.027188
LOCATION:DOOLEYS Regents Park Sports Club\, Terrene St\, Regents Park\, NSW
 \, 2143\, Australia
END:VEVENT
END:VCALENDAR
