BEGIN:VCALENDAR
VERSION:2.0
PRODID:-//Squarespace Inc/Squarespace 6//v6//EN
BEGIN:VEVENT
UID:54a7403be4b09c6fe4062338@squarespace.com
DTSTAMP:20150103T012423Z
DTSTART:20150220T073000Z
DTEND:20150220T090000Z
SUMMARY:Secret Scent presents the 'CaraCare' Aromatherapy Party
GEO:-33.862351;151.088056
LOCATION:Concord Yoga Studio\, 9 George St\, North Strathfield\, NSW\, 2137
 \, Australia
END:VEVENT
END:VCALENDAR
